BEGIN:VCALENDAR
VERSION:2.0
PRODID:-//Bürgergemeinschaft MACH MIT e.V. - ECPv6.15.20//NONSGML v1.0//EN
CALSCALE:GREGORIAN
METHOD:PUBLISH
X-WR-CALNAME:Bürgergemeinschaft MACH MIT e.V.
X-ORIGINAL-URL:https://machmit-im-kannenbaeckerland.de
X-WR-CALDESC:Veranstaltungen für Bürgergemeinschaft MACH MIT e.V.
REFRESH-INTERVAL;VALUE=DURATION:PT1H
X-Robots-Tag:noindex
X-PUBLISHED-TTL:PT1H
BEGIN:VTIMEZONE
TZID:Europe/Berlin
BEGIN:DAYLIGHT
TZOFFSETFROM:+0100
TZOFFSETTO:+0200
TZNAME:CEST
DTSTART:20250330T010000
END:DAYLIGHT
BEGIN:STANDARD
TZOFFSETFROM:+0200
TZOFFSETTO:+0100
TZNAME:CET
DTSTART:20251026T010000
END:STANDARD
BEGIN:DAYLIGHT
TZOFFSETFROM:+0100
TZOFFSETTO:+0200
TZNAME:CEST
DTSTART:20260329T010000
END:DAYLIGHT
BEGIN:STANDARD
TZOFFSETFROM:+0200
TZOFFSETTO:+0100
TZNAME:CET
DTSTART:20261025T010000
END:STANDARD
BEGIN:DAYLIGHT
TZOFFSETFROM:+0100
TZOFFSETTO:+0200
TZNAME:CEST
DTSTART:20270328T010000
END:DAYLIGHT
BEGIN:STANDARD
TZOFFSETFROM:+0200
TZOFFSETTO:+0100
TZNAME:CET
DTSTART:20271031T010000
END:STANDARD
END:VTIMEZONE
BEGIN:VEVENT
DTSTART;TZID=Europe/Berlin:20260505T150000
DTEND;TZID=Europe/Berlin:20260505T163000
DTSTAMP:20260425T184306
CREATED:20260424T115105Z
LAST-MODIFIED:20260424T115218Z
UID:3621-1777993200-1777998600@machmit-im-kannenbaeckerland.de
SUMMARY:Su schwätzen mier - Herzliche Einladung zum Mundart - Treff
DESCRIPTION:Liebe Leserinnen\, liebe Leser\, \nsu schwätzen mier. Wir möchten Sie herzlich zum Mundart-Treff einladen\, den wir jeden 1. Dienstag im Monat von 15:00 Uhr – 16:30 Uhr im Bürgerhaus in Hilgert \, Hauptstrasse 33 anbieten. Weitere Infos finden Sie im nebenstehenden Beitragsbild. \nWir freuen uns auf Ihr Interesse. \nIhr MachMit – Team \n  \n 
URL:https://machmit-im-kannenbaeckerland.de/veranstaltungen/su-schwaetzen-mier-herzliche-einladung-zum-mundart-treff/
LOCATION:Bürgerhaus Hilgert\, Hauptstraße 33\, Hilgert\, 56206\, Deutschland
ATTACH;FMTTYPE=application/pdf:https://machmit-im-kannenbaeckerland.de/wp-content/uploads/2026/04/Anzeige_Mundarttreff_185x135mm_Termine_2026.pdf
ORGANIZER;CN="MACH MIT im Kannenb%C3%A4ckerland e.V.":MAILTO:mail@machmit-im-kannenbaeckerland.de
END:VEVENT
BEGIN:VEVENT
DTSTART;TZID=Europe/Berlin:20260506T180000
DTEND;TZID=Europe/Berlin:20260506T180000
DTSTAMP:20260425T184306
CREATED:20260416T070548Z
LAST-MODIFIED:20260416T070548Z
UID:3531-1778090400-1778090400@machmit-im-kannenbaeckerland.de
SUMMARY:Mitgliederversammlung 2026
DESCRIPTION:
URL:https://machmit-im-kannenbaeckerland.de/veranstaltungen/mitgliederversammlung-2026/
LOCATION:Kulturcafé „Ahl Schul“\, Schulstraße 5 -7\, Hillscheid\, 56204\, Germany
ATTACH;FMTTYPE=image/jpeg:https://machmit-im-kannenbaeckerland.de/wp-content/uploads/2026/04/2026-Mitgliederversammlung.jpg
ORGANIZER;CN="MACH MIT im Kannenb%C3%A4ckerland e.V.":MAILTO:mail@machmit-im-kannenbaeckerland.de
END:VEVENT
BEGIN:VEVENT
DTSTART;TZID=Europe/Berlin:20260507T143000
DTEND;TZID=Europe/Berlin:20260507T163000
DTSTAMP:20260425T184306
CREATED:20260423T113210Z
LAST-MODIFIED:20260423T121148Z
UID:3566-1778164200-1778171400@machmit-im-kannenbaeckerland.de
SUMMARY:Spiele-Nachmittag  - Termine 2026
DESCRIPTION:Liebe Leserinnen\, liebe Leser\, \nhiermit laden wir Sie herzlich zum spielerischen Gedächtnistraining in unterhaltsamer Runde ein. Ob JUNG oder ALT\, jeder ist willkommen mitzumachen. \nTreffpunkt ist jeden 1. Donnerstag im Monat von 14:30 Uhr – 16:30 Uhr im Kulturcafé „Ahl Schul„. Gerne holen wir Sie auch von zu Hause ab. \nMelden Sie sich unter den folgenden Rufnummern: Elke Kohl: 02624/3737. Oder im Bürgerbüro: 02624/104-146 \nWir freuen uns auf Sie! \nIhr MachMit – Team
URL:https://machmit-im-kannenbaeckerland.de/veranstaltungen/spiele-nachmittag-termine-2026/
LOCATION:Kulturcafé „Ahl Schul“\, Schulstraße 5 -7\, Hillscheid\, 56204\, Germany
ATTACH;FMTTYPE=application/pdf:https://machmit-im-kannenbaeckerland.de/wp-content/uploads/2026/04/2026_Anzeige_Spielenachmittag_Termine_185x135mm-1.pdf
ORGANIZER;CN="MACH MIT im Kannenb%C3%A4ckerland e.V.":MAILTO:mail@machmit-im-kannenbaeckerland.de
END:VEVENT
BEGIN:VEVENT
DTSTART;TZID=Europe/Berlin:20260521T180000
DTEND;TZID=Europe/Berlin:20260521T200000
DTSTAMP:20260425T184306
CREATED:20260424T064500Z
LAST-MODIFIED:20260424T065529Z
UID:3597-1779386400-1779393600@machmit-im-kannenbaeckerland.de
SUMMARY:Die Strickgruppe Nadelfieber trifft sich!
DESCRIPTION:Jeden 3. Donnerstag im Monat um 18.00 Uhr im Dorfcafé Ahl Schul. \nInformationen im Bürgerbüro Hillscheid 02624/ 104 146 oder bei Gaby Gollan-Jahn 02624/ 9219 002.\nNeugierige\, die Spaß am Stricken haben\, sind herzlich eingeladen!
URL:https://machmit-im-kannenbaeckerland.de/veranstaltungen/die-strickgruppe-nadelfieber-trifft-sich-11/
LOCATION:Kulturcafé „Ahl Schul“\, Schulstraße 5 -7\, Hillscheid\, 56204\, Germany
ATTACH;FMTTYPE=application/pdf:https://machmit-im-kannenbaeckerland.de/wp-content/uploads/2026/04/Anzeige_Nadelfieber_185x135mm-1.pdf
ORGANIZER;CN="MACH MIT im Kannenb%C3%A4ckerland e.V.":MAILTO:mail@machmit-im-kannenbaeckerland.de
END:VEVENT
BEGIN:VEVENT
DTSTART;TZID=Europe/Berlin:20260602T150000
DTEND;TZID=Europe/Berlin:20260602T163000
DTSTAMP:20260425T184306
CREATED:20260424T115449Z
LAST-MODIFIED:20260424T121205Z
UID:3624-1780412400-1780417800@machmit-im-kannenbaeckerland.de
SUMMARY:Su schwätzen mier - Herzliche Einladung zum Mundart - Treff
DESCRIPTION:Liebe Leserinnen\, liebe Leser\, \nsu schwätzen mier. Wir möchten Sie herzlich zum Mundart-Treff einladen\, den wir jeden 1. Dienstag im Monat von 15:00 Uhr – 16:30 Uhr im Bürgerhaus in Hilgert \, Hauptstrasse 33 anbieten. Weitere Infos finden Sie im nebenstehenden Beitragsbild. \nWir freuen uns auf Ihr Interesse. \nIhr MachMit – Team \n 
URL:https://machmit-im-kannenbaeckerland.de/veranstaltungen/su-schwaetzen-mier-herzliche-einladung-zumm-mundart-treff/
LOCATION:Bürgerhaus Hilgert\, Hauptstraße 33\, Hilgert\, 56206\, Deutschland
ATTACH;FMTTYPE=application/pdf:https://machmit-im-kannenbaeckerland.de/wp-content/uploads/2026/04/Anzeige_Mundarttreff_185x135mm_Termine_2026-1.pdf
ORGANIZER;CN="MACH MIT im Kannenb%C3%A4ckerland e.V.":MAILTO:mail@machmit-im-kannenbaeckerland.de
END:VEVENT
BEGIN:VEVENT
DTSTART;TZID=Europe/Berlin:20260604T143000
DTEND;TZID=Europe/Berlin:20260604T163000
DTSTAMP:20260425T184306
CREATED:20260423T121558Z
LAST-MODIFIED:20260423T121649Z
UID:3572-1780583400-1780590600@machmit-im-kannenbaeckerland.de
SUMMARY:Spiele-Nachmittag - Termine 2026
DESCRIPTION:Liebe Leserinnen\, liebe Leser\, \nhiermit laden wir Sie herzlich zum spielerischen Gedächtnistraining in unterhaltsamer Runde ein. Ob JUNG oder ALT\, jeder ist willkommen mitzumachen. \nTreffpunkt ist jeden 1. Donnerstag im Monat von 14:30 Uhr – 16:30 Uhr im Kulturcafé „Ahl Schul„. Gerne holen wir Sie auch von zu Hause ab. \nMelden Sie sich unter den folgenden Rufnummern: Elke Kohl: 02624/3737. Oder im Bürgerbüro: 02624/104-146 \nWir freuen uns auf Sie! \nIhr MachMit – Team
URL:https://machmit-im-kannenbaeckerland.de/veranstaltungen/spiele-nachmittag-termine-2026-2/
LOCATION:Kulturcafé „Ahl Schul“\, Schulstraße 5 -7\, Hillscheid\, 56204\, Germany
ATTACH;FMTTYPE=application/pdf:https://machmit-im-kannenbaeckerland.de/wp-content/uploads/2026/04/2026_Anzeige_Spielenachmittag_Termine_185x135mm-2.pdf
ORGANIZER;CN="MACH MIT im Kannenb%C3%A4ckerland e.V.":MAILTO:mail@machmit-im-kannenbaeckerland.de
END:VEVENT
BEGIN:VEVENT
DTSTART;TZID=Europe/Berlin:20260618T180000
DTEND;TZID=Europe/Berlin:20260618T200000
DTSTAMP:20260425T184306
CREATED:20260424T064940Z
LAST-MODIFIED:20260424T070604Z
UID:3602-1781805600-1781812800@machmit-im-kannenbaeckerland.de
SUMMARY:Die Strickgruppe Nadelfieber trifft sich!
DESCRIPTION:Jeden 3. Donnerstag im Monat um 18.00 Uhr im Dorfcafé Ahl Schul. \nInformationen im Bürgerbüro Hillscheid 02624/ 104 146 oder bei Gaby Gollan-Jahn 02624/ 9219 002.\nNeugierige\, die Spaß am Stricken haben\, sind herzlich eingeladen!
URL:https://machmit-im-kannenbaeckerland.de/veranstaltungen/die-strickgruppe-nadelfieber-trifft-sich-12/
LOCATION:Kulturcafé „Ahl Schul“\, Schulstraße 5 -7\, Hillscheid\, 56204\, Germany
ATTACH;FMTTYPE=application/pdf:https://machmit-im-kannenbaeckerland.de/wp-content/uploads/2026/04/Anzeige_Nadelfieber_185x135mm-2.pdf
ORGANIZER;CN="MACH MIT im Kannenb%C3%A4ckerland e.V.":MAILTO:mail@machmit-im-kannenbaeckerland.de
END:VEVENT
BEGIN:VEVENT
DTSTART;TZID=Europe/Berlin:20260702T143000
DTEND;TZID=Europe/Berlin:20260702T163000
DTSTAMP:20260425T184306
CREATED:20260423T121944Z
LAST-MODIFIED:20260423T121944Z
UID:3575-1783002600-1783009800@machmit-im-kannenbaeckerland.de
SUMMARY:Spiele-Nachmittag - Termine 2026
DESCRIPTION:Liebe Leserinnen\, liebe Leser\, \nhiermit laden wir Sie herzlich zum spielerischen Gedächtnistraining in unterhaltsamer Runde ein. Ob JUNG oder ALT\, jeder ist willkommen mitzumachen. \nTreffpunkt ist jeden 1. Donnerstag im Monat von 14:30 Uhr – 16:30 Uhr im Kulturcafé „Ahl Schul„. Gerne holen wir Sie auch von zu Hause ab. \nMelden Sie sich unter den folgenden Rufnummern: Elke Kohl: 02624/3737. Oder im Bürgerbüro: 02624/104-146 \nWir freuen uns auf Sie! \nIhr MachMit – Team
URL:https://machmit-im-kannenbaeckerland.de/veranstaltungen/spiele-nachmittag-termine-2026-3/
LOCATION:Kulturcafé „Ahl Schul“\, Schulstraße 5 -7\, Hillscheid\, 56204\, Germany
ATTACH;FMTTYPE=application/pdf:https://machmit-im-kannenbaeckerland.de/wp-content/uploads/2026/04/2026_Anzeige_Spielenachmittag_Termine_185x135mm-3.pdf
ORGANIZER;CN="MACH MIT im Kannenb%C3%A4ckerland e.V.":MAILTO:mail@machmit-im-kannenbaeckerland.de
END:VEVENT
BEGIN:VEVENT
DTSTART;TZID=Europe/Berlin:20260707T150000
DTEND;TZID=Europe/Berlin:20260707T163000
DTSTAMP:20260425T184306
CREATED:20260424T115835Z
LAST-MODIFIED:20260424T115835Z
UID:3627-1783436400-1783441800@machmit-im-kannenbaeckerland.de
SUMMARY:Su schwätzen mier - Herzliche Einladung zum Mundart - Treff
DESCRIPTION:Liebe Leserinnen\, liebe Leser\, \nsu schwätzen mier. Wir möchten Sie herzlich zum Mundart-Treff einladen\, den wir jeden 1. Dienstag im Monat von 15:00 Uhr – 16:30 Uhr im Bürgerhaus in Hilgert \, Hauptstrasse 33 anbieten. Weitere Infos finden Sie im nebenstehenden Beitragsbild. \nWir freuen uns auf Ihr Interesse. \nIhr MachMit – Team \n 
URL:https://machmit-im-kannenbaeckerland.de/veranstaltungen/su-schwaetzen-mier-herzliche-einladung-zum-mundart-treff-2/
LOCATION:Bürgerhaus Hilgert\, Hauptstraße 33\, Hilgert\, 56206\, Deutschland
ATTACH;FMTTYPE=application/pdf:https://machmit-im-kannenbaeckerland.de/wp-content/uploads/2026/04/Anzeige_Mundarttreff_185x135mm_Termine_2026-2.pdf
ORGANIZER;CN="MACH MIT im Kannenb%C3%A4ckerland e.V.":MAILTO:mail@machmit-im-kannenbaeckerland.de
END:VEVENT
BEGIN:VEVENT
DTSTART;TZID=Europe/Berlin:20260716T180000
DTEND;TZID=Europe/Berlin:20260716T200000
DTSTAMP:20260425T184306
CREATED:20260424T065409Z
LAST-MODIFIED:20260424T065614Z
UID:3605-1784224800-1784232000@machmit-im-kannenbaeckerland.de
SUMMARY:Die Strickgruppe Nadelfieber trifft sich!
DESCRIPTION:Jeden 3. Donnerstag im Monat um 18.00 Uhr im Dorfcafé Ahl Schul. \nInformationen im Bürgerbüro Hillscheid 02624/ 104 146 oder bei Gaby Gollan-Jahn 02624/ 9219 002. Neugierige\, die Spaß am Stricken haben\, sind herzlich eingeladen!
URL:https://machmit-im-kannenbaeckerland.de/veranstaltungen/die-strickgruppe-nadelfieber-trifft-sich-13/
LOCATION:Kulturcafé „Ahl Schul“\, Schulstraße 5 -7\, Hillscheid\, 56204\, Germany
ATTACH;FMTTYPE=application/pdf:https://machmit-im-kannenbaeckerland.de/wp-content/uploads/2026/04/Anzeige_Nadelfieber_185x135mm-3.pdf
ORGANIZER;CN="MACH MIT im Kannenb%C3%A4ckerland e.V.":MAILTO:mail@machmit-im-kannenbaeckerland.de
END:VEVENT
BEGIN:VEVENT
DTSTART;TZID=Europe/Berlin:20260804T150000
DTEND;TZID=Europe/Berlin:20260804T163000
DTSTAMP:20260425T184306
CREATED:20260424T120039Z
LAST-MODIFIED:20260424T120039Z
UID:3630-1785855600-1785861000@machmit-im-kannenbaeckerland.de
SUMMARY:Su schwätzen mier - Herzliche Einladung zum Mundart - Treff
DESCRIPTION:Liebe Leserinnen\, liebe Leser\, \nsu schwätzen mier. Wir möchten Sie herzlich zum Mundart-Treff einladen\, den wir jeden 1. Dienstag im Monat von 15:00 Uhr – 16:30 Uhr im Bürgerhaus in Hilgert \, Hauptstrasse 33 anbieten. Weitere Infos finden Sie im nebenstehenden Beitragsbild. \nWir freuen uns auf Ihr Interesse. \nIhr MachMit – Team \n 
URL:https://machmit-im-kannenbaeckerland.de/veranstaltungen/su-schwaetzen-mier-herzliche-einladung-zum-mundart-treff-3/
LOCATION:Bürgerhaus Hilgert\, Hauptstraße 33\, Hilgert\, 56206\, Deutschland
ATTACH;FMTTYPE=application/pdf:https://machmit-im-kannenbaeckerland.de/wp-content/uploads/2026/04/Anzeige_Mundarttreff_185x135mm_Termine_2026-3.pdf
ORGANIZER;CN="MACH MIT im Kannenb%C3%A4ckerland e.V.":MAILTO:mail@machmit-im-kannenbaeckerland.de
END:VEVENT
BEGIN:VEVENT
DTSTART;TZID=Europe/Berlin:20260806T143000
DTEND;TZID=Europe/Berlin:20260806T163000
DTSTAMP:20260425T184306
CREATED:20260423T122244Z
LAST-MODIFIED:20260423T122244Z
UID:3578-1786026600-1786033800@machmit-im-kannenbaeckerland.de
SUMMARY:Spiele-Nachmittag - Termine 2026
DESCRIPTION:Liebe Leserinnen\, liebe Leser\, \nhiermit laden wir Sie herzlich zum spielerischen Gedächtnistraining in unterhaltsamer Runde ein. Ob JUNG oder ALT\, jeder ist willkommen mitzumachen. \nTreffpunkt ist jeden 1. Donnerstag im Monat von 14:30 Uhr – 16:30 Uhr im Kulturcafé „Ahl Schul„. Gerne holen wir Sie auch von zu Hause ab. \nMelden Sie sich unter den folgenden Rufnummern: Elke Kohl: 02624/3737. Oder im Bürgerbüro: 02624/104-146 \nWir freuen uns auf Sie! \nIhr MachMit – Team
URL:https://machmit-im-kannenbaeckerland.de/veranstaltungen/spiele-nachmittag-termine-2026-4/
LOCATION:Kulturcafé „Ahl Schul“\, Schulstraße 5 -7\, Hillscheid\, 56204\, Germany
ATTACH;FMTTYPE=application/pdf:https://machmit-im-kannenbaeckerland.de/wp-content/uploads/2026/04/2026_Anzeige_Spielenachmittag_Termine_185x135mm-4.pdf
ORGANIZER;CN="MACH MIT im Kannenb%C3%A4ckerland e.V.":MAILTO:mail@machmit-im-kannenbaeckerland.de
END:VEVENT
BEGIN:VEVENT
DTSTART;TZID=Europe/Berlin:20260820T180000
DTEND;TZID=Europe/Berlin:20260820T200000
DTSTAMP:20260425T184306
CREATED:20260424T070026Z
LAST-MODIFIED:20260424T070026Z
UID:3608-1787248800-1787256000@machmit-im-kannenbaeckerland.de
SUMMARY:Die Strickgruppe Nadelfieber trifft sich!
DESCRIPTION:Jeden 3. Donnerstag im Monat um 18.00 Uhr im Dorfcafé Ahl Schul. \nInformationen im Bürgerbüro Hillscheid 02624/ 104 146 oder bei Gaby Gollan-Jahn 02624/ 9219 002.\nNeugierige\, die Spaß am Stricken haben\, sind herzlich eingeladen!
URL:https://machmit-im-kannenbaeckerland.de/veranstaltungen/die-strickgruppe-nadelfieber-trifft-sich-14/
LOCATION:Kulturcafé „Ahl Schul“\, Schulstraße 5 -7\, Hillscheid\, 56204\, Germany
ATTACH;FMTTYPE=application/pdf:https://machmit-im-kannenbaeckerland.de/wp-content/uploads/2026/04/Anzeige_Nadelfieber_185x135mm-4.pdf
ORGANIZER;CN="MACH MIT im Kannenb%C3%A4ckerland e.V.":MAILTO:mail@machmit-im-kannenbaeckerland.de
END:VEVENT
BEGIN:VEVENT
DTSTART;TZID=Europe/Berlin:20260901T150000
DTEND;TZID=Europe/Berlin:20260901T163000
DTSTAMP:20260425T184306
CREATED:20260424T120338Z
LAST-MODIFIED:20260424T120338Z
UID:3633-1788274800-1788280200@machmit-im-kannenbaeckerland.de
SUMMARY:Su schwätzen mier - Herzliche Einladung zum Mundart-Treff
DESCRIPTION:Liebe Leserinnen\, liebe Leser\, \nsu schwätzen mier. Wir möchten Sie herzlich zum Mundart-Treff einladen\, den wir jeden 1. Dienstag im Monat von 15:00 Uhr – 16:30 Uhr im Bürgerhaus in Hilgert \, Hauptstrasse 33 anbieten. Weitere Infos finden Sie im nebenstehenden Beitragsbild. \nWir freuen uns auf Ihr Interesse. \nIhr MachMit – Team \n 
URL:https://machmit-im-kannenbaeckerland.de/veranstaltungen/su-schwaetzen-mier-herzliche-einladung-zum-mundart-treff-4/
LOCATION:Bürgerhaus Hilgert\, Hauptstraße 33\, Hilgert\, 56206\, Deutschland
ATTACH;FMTTYPE=application/pdf:https://machmit-im-kannenbaeckerland.de/wp-content/uploads/2026/04/Anzeige_Mundarttreff_185x135mm_Termine_2026-4.pdf
ORGANIZER;CN="MACH MIT im Kannenb%C3%A4ckerland e.V.":MAILTO:mail@machmit-im-kannenbaeckerland.de
END:VEVENT
BEGIN:VEVENT
DTSTART;TZID=Europe/Berlin:20260903T143000
DTEND;TZID=Europe/Berlin:20260903T163000
DTSTAMP:20260425T184306
CREATED:20260423T122523Z
LAST-MODIFIED:20260423T122523Z
UID:3581-1788445800-1788453000@machmit-im-kannenbaeckerland.de
SUMMARY:Spiele-Nachmittag - Termine 2026
DESCRIPTION:Liebe Leserinnen\, liebe Leser\, \nhiermit laden wir Sie herzlich zum spielerischen Gedächtnistraining in unterhaltsamer Runde ein. Ob JUNG oder ALT\, jeder ist willkommen mitzumachen. \nTreffpunkt ist jeden 1. Donnerstag im Monat von 14:30 Uhr – 16:30 Uhr im Kulturcafé „Ahl Schul„. Gerne holen wir Sie auch von zu Hause ab. \nMelden Sie sich unter den folgenden Rufnummern: Elke Kohl: 02624/3737. Oder im Bürgerbüro: 02624/104-146 \nWir freuen uns auf Sie! \nIhr MachMit – Team
URL:https://machmit-im-kannenbaeckerland.de/veranstaltungen/spiele-nachmittag-termine-2026-5/
LOCATION:Kulturcafé „Ahl Schul“\, Schulstraße 5 -7\, Hillscheid\, 56204\, Germany
ATTACH;FMTTYPE=application/pdf:https://machmit-im-kannenbaeckerland.de/wp-content/uploads/2026/04/2026_Anzeige_Spielenachmittag_Termine_185x135mm-5.pdf
ORGANIZER;CN="MACH MIT im Kannenb%C3%A4ckerland e.V.":MAILTO:mail@machmit-im-kannenbaeckerland.de
END:VEVENT
BEGIN:VEVENT
DTSTART;TZID=Europe/Berlin:20260917T180000
DTEND;TZID=Europe/Berlin:20260917T200000
DTSTAMP:20260425T184306
CREATED:20260424T070207Z
LAST-MODIFIED:20260424T070207Z
UID:3611-1789668000-1789675200@machmit-im-kannenbaeckerland.de
SUMMARY:Die Strickgruppe Nadelfieber trifft sich!
DESCRIPTION:Jeden 3. Donnerstag im Monat um 18.00 Uhr im Dorfcafé Ahl Schul. \nInformationen im Bürgerbüro Hillscheid 02624/ 104 146 oder bei Gaby Gollan-Jahn 02624/ 9219 002.\nNeugierige\, die Spaß am Stricken haben\, sind herzlich eingeladen!
URL:https://machmit-im-kannenbaeckerland.de/veranstaltungen/die-strickgruppe-nadelfieber-trifft-sich-15/
LOCATION:Kulturcafé „Ahl Schul“\, Schulstraße 5 -7\, Hillscheid\, 56204\, Germany
ATTACH;FMTTYPE=application/pdf:https://machmit-im-kannenbaeckerland.de/wp-content/uploads/2026/04/Anzeige_Nadelfieber_185x135mm-5.pdf
ORGANIZER;CN="MACH MIT im Kannenb%C3%A4ckerland e.V.":MAILTO:mail@machmit-im-kannenbaeckerland.de
END:VEVENT
BEGIN:VEVENT
DTSTART;TZID=Europe/Berlin:20261001T143000
DTEND;TZID=Europe/Berlin:20261001T163000
DTSTAMP:20260425T184306
CREATED:20260423T122817Z
LAST-MODIFIED:20260423T122817Z
UID:3584-1790865000-1790872200@machmit-im-kannenbaeckerland.de
SUMMARY:Spiele-Nachmittag - Termine 2026
DESCRIPTION:Liebe Leserinnen\, liebe Leser\, \nhiermit laden wir Sie herzlich zum spielerischen Gedächtnistraining in unterhaltsamer Runde ein. Ob JUNG oder ALT\, jeder ist willkommen mitzumachen. \nTreffpunkt ist jeden 1. Donnerstag im Monat von 14:30 Uhr – 16:30 Uhr im Kulturcafé „Ahl Schul„. Gerne holen wir Sie auch von zu Hause ab. \nMelden Sie sich unter den folgenden Rufnummern: Elke Kohl: 02624/3737. Oder im Bürgerbüro: 02624/104-146 \nWir freuen uns auf Sie! \nIhr MachMit – Team
URL:https://machmit-im-kannenbaeckerland.de/veranstaltungen/spiele-nachmittag-termine-2026-6/
LOCATION:Kulturcafé „Ahl Schul“\, Schulstraße 5 -7\, Hillscheid\, 56204\, Germany
ATTACH;FMTTYPE=application/pdf:https://machmit-im-kannenbaeckerland.de/wp-content/uploads/2026/04/2026_Anzeige_Spielenachmittag_Termine_185x135mm-6.pdf
ORGANIZER;CN="MACH MIT im Kannenb%C3%A4ckerland e.V.":MAILTO:mail@machmit-im-kannenbaeckerland.de
END:VEVENT
BEGIN:VEVENT
DTSTART;TZID=Europe/Berlin:20261006T150000
DTEND;TZID=Europe/Berlin:20261006T163000
DTSTAMP:20260425T184306
CREATED:20260424T120609Z
LAST-MODIFIED:20260424T120609Z
UID:3636-1791298800-1791304200@machmit-im-kannenbaeckerland.de
SUMMARY:Su schwätzen mier - Herzliche Einladung zum Mundart - Treff
DESCRIPTION:Liebe Leserinnen\, liebe Leser\, \nsu schwätzen mier. Wir möchten Sie herzlich zum Mundart-Treff einladen\, den wir jeden 1. Dienstag im Monat von 15:00 Uhr – 16:30 Uhr im Bürgerhaus in Hilgert \, Hauptstrasse 33 anbieten. Weitere Infos finden Sie im nebenstehenden Beitragsbild. \nWir freuen uns auf Ihr Interesse. \nIhr MachMit – Team \n 
URL:https://machmit-im-kannenbaeckerland.de/veranstaltungen/su-schwaetzen-mier-herzliche-einladung-zum-mundart-treff-5/
LOCATION:Bürgerhaus Hilgert\, Hauptstraße 33\, Hilgert\, 56206\, Deutschland
ATTACH;FMTTYPE=application/pdf:https://machmit-im-kannenbaeckerland.de/wp-content/uploads/2026/04/Anzeige_Mundarttreff_185x135mm_Termine_2026-5.pdf
ORGANIZER;CN="MACH MIT im Kannenb%C3%A4ckerland e.V.":MAILTO:mail@machmit-im-kannenbaeckerland.de
END:VEVENT
BEGIN:VEVENT
DTSTART;TZID=Europe/Berlin:20261015T180000
DTEND;TZID=Europe/Berlin:20261015T200000
DTSTAMP:20260425T184306
CREATED:20260424T070326Z
LAST-MODIFIED:20260424T121434Z
UID:3614-1792087200-1792094400@machmit-im-kannenbaeckerland.de
SUMMARY:Die Strickgruppe Nadelfieber trifft sich!
DESCRIPTION:Jeden 3. Donnerstag im Monat um 18.00 Uhr im Dorfcafé Ahl Schul. \nInformationen im Bürgerbüro Hillscheid 02624/ 104 146 oder bei Gaby Gollan-Jahn 02624/ 9219 002.\nNeugierige\, die Spaß am Stricken haben\, sind herzlich eingeladen!
URL:https://machmit-im-kannenbaeckerland.de/veranstaltungen/die-strickgruppe-nadelfieber-trifft-sich-16/
LOCATION:Kulturcafé „Ahl Schul“\, Schulstraße 5 -7\, Hillscheid\, 56204\, Germany
ATTACH;FMTTYPE=application/pdf:https://machmit-im-kannenbaeckerland.de/wp-content/uploads/2026/04/Anzeige_Nadelfieber_185x135mm-8.pdf
ORGANIZER;CN="MACH MIT im Kannenb%C3%A4ckerland e.V.":MAILTO:mail@machmit-im-kannenbaeckerland.de
END:VEVENT
BEGIN:VEVENT
DTSTART;TZID=Europe/Berlin:20261103T150000
DTEND;TZID=Europe/Berlin:20261103T163000
DTSTAMP:20260425T184306
CREATED:20260424T120829Z
LAST-MODIFIED:20260424T120829Z
UID:3639-1793718000-1793723400@machmit-im-kannenbaeckerland.de
SUMMARY:Su schwätzen mier - Herzliche Einladung zum Mundart - Treff
DESCRIPTION:Liebe Leserinnen\, liebe Leser\, \nsu schwätzen mier. Wir möchten Sie herzlich zum Mundart-Treff einladen\, den wir jeden 1. Dienstag im Monat von 15:00 Uhr – 16:30 Uhr im Bürgerhaus in Hilgert \, Hauptstrasse 33 anbieten. Weitere Infos finden Sie im nebenstehenden Beitragsbild. \nWir freuen uns auf Ihr Interesse. \nIhr MachMit – Team \n 
URL:https://machmit-im-kannenbaeckerland.de/veranstaltungen/su-schwaetzen-mier-herzliche-einladung-zum-mundart-treff-6/
LOCATION:Bürgerhaus Hilgert\, Hauptstraße 33\, Hilgert\, 56206\, Deutschland
ATTACH;FMTTYPE=application/pdf:https://machmit-im-kannenbaeckerland.de/wp-content/uploads/2026/04/Anzeige_Mundarttreff_185x135mm_Termine_2026-6.pdf
ORGANIZER;CN="MACH MIT im Kannenb%C3%A4ckerland e.V.":MAILTO:mail@machmit-im-kannenbaeckerland.de
END:VEVENT
BEGIN:VEVENT
DTSTART;TZID=Europe/Berlin:20261105T143000
DTEND;TZID=Europe/Berlin:20261105T163000
DTSTAMP:20260425T184306
CREATED:20260423T123059Z
LAST-MODIFIED:20260423T123059Z
UID:3587-1793889000-1793896200@machmit-im-kannenbaeckerland.de
SUMMARY:Spiele-Nachmittag - Termine 2026
DESCRIPTION:Liebe Leserinnen\, liebe Leser\, \nhiermit laden wir Sie herzlich zum spielerischen Gedächtnistraining in unterhaltsamer Runde ein. Ob JUNG oder ALT\, jeder ist willkommen mitzumachen. \nTreffpunkt ist jeden 1. Donnerstag im Monat von 14:30 Uhr – 16:30 Uhr im Kulturcafé „Ahl Schul„. Gerne holen wir Sie auch von zu Hause ab. \nMelden Sie sich unter den folgenden Rufnummern: Elke Kohl: 02624/3737. Oder im Bürgerbüro: 02624/104-146 \nWir freuen uns auf Sie! \nIhr MachMit – Team
URL:https://machmit-im-kannenbaeckerland.de/veranstaltungen/spiele-nachmittag-termine-2026-7/
LOCATION:Kulturcafé „Ahl Schul“\, Schulstraße 5 -7\, Hillscheid\, 56204\, Germany
ATTACH;FMTTYPE=application/pdf:https://machmit-im-kannenbaeckerland.de/wp-content/uploads/2026/04/2026_Anzeige_Spielenachmittag_Termine_185x135mm-7.pdf
ORGANIZER;CN="MACH MIT im Kannenb%C3%A4ckerland e.V.":MAILTO:mail@machmit-im-kannenbaeckerland.de
END:VEVENT
BEGIN:VEVENT
DTSTART;TZID=Europe/Berlin:20261119T180000
DTEND;TZID=Europe/Berlin:20261119T200000
DTSTAMP:20260425T184306
CREATED:20260424T070454Z
LAST-MODIFIED:20260424T070454Z
UID:3617-1795111200-1795118400@machmit-im-kannenbaeckerland.de
SUMMARY:Die Strickgruppe Nadelfieber trifft sich!
DESCRIPTION:Jeden 3. Donnerstag im Monat um 18.00 Uhr im Dorfcafé Ahl Schul. \nInformationen im Bürgerbüro Hillscheid 02624/ 104 146 oder bei Gaby Gollan-Jahn 02624/ 9219 002.\nNeugierige\, die Spaß am Stricken haben\, sind herzlich eingeladen!
URL:https://machmit-im-kannenbaeckerland.de/veranstaltungen/die-strickgruppe-nadelfieber-trifft-sich-17/
LOCATION:Kulturcafé „Ahl Schul“\, Schulstraße 5 -7\, Hillscheid\, 56204\, Germany
ATTACH;FMTTYPE=application/pdf:https://machmit-im-kannenbaeckerland.de/wp-content/uploads/2026/04/Anzeige_Nadelfieber_185x135mm-7.pdf
ORGANIZER;CN="MACH MIT im Kannenb%C3%A4ckerland e.V.":MAILTO:mail@machmit-im-kannenbaeckerland.de
END:VEVENT
BEGIN:VEVENT
DTSTART;TZID=Europe/Berlin:20261201T150000
DTEND;TZID=Europe/Berlin:20261201T163000
DTSTAMP:20260425T184306
CREATED:20260424T121055Z
LAST-MODIFIED:20260424T121055Z
UID:3642-1796137200-1796142600@machmit-im-kannenbaeckerland.de
SUMMARY:Su schwätzen mier - Herzliche Einladung zum Mundart - Treff
DESCRIPTION:Liebe Leserinnen\, liebe Leser\, \nsu schwätzen mier. Wir möchten Sie herzlich zum Mundart-Treff einladen\, den wir jeden 1. Dienstag im Monat von 15:00 Uhr – 16:30 Uhr im Bürgerhaus in Hilgert \, Hauptstrasse 33 anbieten. Weitere Infos finden Sie im nebenstehenden Beitragsbild. \nWir freuen uns auf Ihr Interesse. \nIhr MachMit – Team \n 
URL:https://machmit-im-kannenbaeckerland.de/veranstaltungen/su-schwaetzen-mier-herzliche-einladung-zum-mundart-treff-7/
LOCATION:Bürgerhaus Hilgert\, Hauptstraße 33\, Hilgert\, 56206\, Deutschland
ATTACH;FMTTYPE=application/pdf:https://machmit-im-kannenbaeckerland.de/wp-content/uploads/2026/04/Anzeige_Mundarttreff_185x135mm_Termine_2026-7.pdf
ORGANIZER;CN="MACH MIT im Kannenb%C3%A4ckerland e.V.":MAILTO:mail@machmit-im-kannenbaeckerland.de
END:VEVENT
BEGIN:VEVENT
DTSTART;TZID=Europe/Berlin:20261203T143000
DTEND;TZID=Europe/Berlin:20261203T163000
DTSTAMP:20260425T184306
CREATED:20260423T123249Z
LAST-MODIFIED:20260423T123249Z
UID:3590-1796308200-1796315400@machmit-im-kannenbaeckerland.de
SUMMARY:Spiele-Nachmittag - Termine 2026
DESCRIPTION:Liebe Leserinnen\, liebe Leser\, \nhiermit laden wir Sie herzlich zum spielerischen Gedächtnistraining in unterhaltsamer Runde ein. Ob JUNG oder ALT\, jeder ist willkommen mitzumachen. \nTreffpunkt ist jeden 1. Donnerstag im Monat von 14:30 Uhr – 16:30 Uhr im Kulturcafé „Ahl Schul„. Gerne holen wir Sie auch von zu Hause ab. \nMelden Sie sich unter den folgenden Rufnummern: Elke Kohl: 02624/3737. Oder im Bürgerbüro: 02624/104-146 \nWir freuen uns auf Sie! \nIhr MachMit – Team
URL:https://machmit-im-kannenbaeckerland.de/veranstaltungen/spiele-nachmittag-termine-2026-8/
LOCATION:Kulturcafé „Ahl Schul“\, Schulstraße 5 -7\, Hillscheid\, 56204\, Germany
ATTACH;FMTTYPE=application/pdf:https://machmit-im-kannenbaeckerland.de/wp-content/uploads/2026/04/2026_Anzeige_Spielenachmittag_Termine_185x135mm-8.pdf
ORGANIZER;CN="MACH MIT im Kannenb%C3%A4ckerland e.V.":MAILTO:mail@machmit-im-kannenbaeckerland.de
END:VEVENT
END:VCALENDAR